Workbook
Name _3’端修饰: #REF!
Name _3’端修饰: 修饰名称!#REF!
Name _5’端修饰: #REF!
Name _5’端修饰: 修饰名称!#REF!
Name 两端修饰: #REF!
Name 两端修饰: 修饰名称!#REF!

Sheet 引物合成订购表
C1: DNA合成订单 | D1: 订购日期： 年 月 日
A2: *订购人姓名 | D2: 联系地址：上海市松江区文翔东路58号 | H2: 邮箱：synth@primerna.com
A3: *订购人手机 | D3: 官网：https://www.primerna.com | H3: 电话：021-61601695
A4: *订购人E-MAIL： | D4: 温馨提示： 1. 此表格仅适用于线下（E-mail）订单提交使用； 2. 填写表格前请认真阅读下面栏目“修饰碱基”“纯化推荐”“填写示例”工作表，获取对选项更详细的解释和说明； 3. 由于订单提交后由系统自动处理，请务必在订单提交前仔细核对所填写的信息，此表格中*号的字段为必填项，线下（E-mail）订单需完整填写表头部分信息，线上提交无需填写； 4.（E-mail）订单接收到邮件回复后将不能再更改或取消，如未收到邮件回复请电话确认，为了避免重复下订单，请您不要重复发送； 5. 我们提供以OD量或nmoles为合成量提交订单，两者任选其一填写即可，且都只能填写数字不能有其它字符，如两者均有填写默认以OD量为准；如交付形式选择液体交付，请按nmol下单； 6. 5端3端修饰及中间修饰的填写方法请结合表格中的“修饰碱基”和“填写示例”工作表； 7. 质谱报告类型默认为电子版，如需要纸质版请备注。 8. *为必须填写项目，订单编号 客户不用填写，是本公司对客户订单下单编号或合同号。
A5: *负责人/法人：
A6: *固定电话：
A7: *订购人单位：
A8: *发票抬头：
A9: *付款方式：
A10: *收货地址：
A11: *备注：
A12: 订单编号
A13: ID（此处无需填写） | B13: Primer名称 | C13: 序列（5' to 3'） | D13: 碱基数 | E13: 分装管数 | F13: 提供总量（OD） | G13: 纯化方法 | H13: nmoles | I13: 5'端修饰 | J13: 3'端修饰 | K13: 中间修饰 | L13: 类型 | M13: 备注
A14: 01 | D14: {=LEN(C14)-SUMPRODUCT(LEN(C14)-LEN(SUBSTITUTE(C14,修饰名称!$E$2:$E$218,修饰名称!$F$2:$F$218)))} -> 0
A15: 02 | D15: {=LEN(C15)-SUMPRODUCT(LEN(C15)-LEN(SUBSTITUTE(C15,修饰名称!$E$2:$E$218,修饰名称!$F$2:$F$218)))} -> 0
A16: 03 | D16: {=LEN(C16)-SUMPRODUCT(LEN(C16)-LEN(SUBSTITUTE(C16,修饰名称!$E$2:$E$218,修饰名称!$F$2:$F$218)))} -> 0
A17: 04 | D17: {=LEN(C17)-SUMPRODUCT(LEN(C17)-LEN(SUBSTITUTE(C17,修饰名称!$E$2:$E$218,修饰名称!$F$2:$F$218)))} -> 0
A18: 05 | D18: {=LEN(C18)-SUMPRODUCT(LEN(C18)-LEN(SUBSTITUTE(C18,修饰名称!$E$2:$E$218,修饰名称!$F$2:$F$218)))} -> 0
A19: 06 | D19: {=LEN(C19)-SUMPRODUCT(LEN(C19)-LEN(SUBSTITUTE(C19,修饰名称!$E$2:$E$218,修饰名称!$F$2:$F$218)))} -> 0
A20: 07 | D20: {=LEN(C20)-SUMPRODUCT(LEN(C20)-LEN(SUBSTITUTE(C20,修饰名称!$E$2:$E$218,修饰名称!$F$2:$F$218)))} -> 0
A21: 08 | D21: {=LEN(C21)-SUMPRODUCT(LEN(C21)-LEN(SUBSTITUTE(C21,修饰名称!$E$2:$E$218,修饰名称!$F$2:$F$218)))} -> 0
A22: 09 | D22: {=LEN(C22)-SUMPRODUCT(LEN(C22)-LEN(SUBSTITUTE(C22,修饰名称!$E$2:$E$218,修饰名称!$F$2:$F$218)))} -> 0
A23: 10 | D23: {=LEN(C23)-SUMPRODUCT(LEN(C23)-LEN(SUBSTITUTE(C23,修饰名称!$E$2:$E$218,修饰名称!$F$2:$F$218)))} -> 0
A24: 11 | D24: {=LEN(C24)-SUMPRODUCT(LEN(C24)-LEN(SUBSTITUTE(C24,修饰名称!$E$2:$E$218,修饰名称!$F$2:$F$218)))} -> 0
A25: 12 | D25: {=LEN(C25)-SUMPRODUCT(LEN(C25)-LEN(SUBSTITUTE(C25,修饰名称!$E$2:$E$218,修饰名称!$F$2:$F$218)))} -> 0
... A113: 100 | D113: {=LEN(C113)-SUMPRODUCT(LEN(C113)-LEN(SUBSTITUTE(C113,修饰名称!$E$2:$E$218,修饰名称!$F$2:$F$218)))} -> 0

Sheet 修饰名称
A1: 5’端修饰 | B1: 3’端修饰 | C1: 两端修饰 | D1: 中间修饰 | E1: 中间修饰代码 | F1: 中间修饰碱基
A2: 5`6-FAM | B2: 3`6-FAM | C2: 5`6-FAM，3`BHQ1 | D2: 1-Me-dA | E2: /i1-MedA/ | F2: A
A3: 5`Acrydite | B3: 3`Acrydite | C3: 5`6-FAM，3`BHQ2 | D3: 2-Aminopurine | E3: /i2-Amp/ | F3: A
A4: 5`Alexa Fluor 350 | B4: 3`Alexa Fluor 350 | C4: 5`6-FAM，3`Dabcyl | D4: 5-Aza-2`-deoxycytidine | E4: /i5-AzadC/ | F4: C
A5: 5`Alexa Fluor 405 | B5: 3`Alexa Fluor 405 | C5: 5`6-FAM，3`DBQ1 | D5: 5-Bromo dU | E5: /i5Br-dU/ | F5: U
A6: 5`Alexa Fluor 430 | B6: 3`Alexa Fluor 430 | C6: 5`6-FAM，3`Eclipse | D6: 5F-dU | E6: /i5F-dU/ | F6: U
A7: 5`Alexa Fluor 488 | B7: 3`Alexa Fluor 488 | C7: 5`6-FAM，3`MGB | D7: 5-Hydroxmethyl dC | E7: /55HydMe-dC/ | F7: C
A8: 5`Alexa Fluor 532 | B8: 3`Alexa Fluor 532 | C8: 5`6-FAM，3`TAMRA-N | D8: 5-Methyl dC | E8: /i5MedC/ | F8: C
A9: 5`Alexa Fluor 555 | B9: 3`Alexa Fluor 555 | C9: 5`Alexa Fluor 488，3`BHQ1 | D9: 5-Nitroindole | E9: /i5NitInd/
A10: 5`Alexa Fluor 568 | B10: 3`Alexa Fluor 568 | C10: 5`Alexa Fluor 488，3`BHQ2 | D10: 8-OXO-dG | E10: /i8oxodG/ | F10: G
A11: 5`Alexa Fluor 594 | B11: 3`Alexa Fluor 594 | C11: 5`Alexa Fluor 488，3`Dabcyl | D11: Azobenzene | E11: /iAbz/
A12: 5`Alexa Fluor 647 | B12: 3`Alexa Fluor 647 | C12: 5`Alexa Fluor 488，3`MGB | D12: C12 Spacer | E12: /iSpC12/
A13: 5`Alexa Fluor 680 | B13: 3`Alexa Fluor 680 | C13: 5`AMCA，3`BHQ1 | D13: C3 Spacer | E13: /iSpC3/
A14: 5`AMCA | B14: 3`AMCA | C14: 5`AMCA，3`Dabcyl | D14: C6 Spacer | E14: /iSp6/
A15: 5`Atto 425 | B15: 3`AquaPhluor 593 | C15: 5`AMCA，3`Eclipse | D15: deoxyInosine (dI) | E15: /ideoxyI/ | F15: I
A16: 5`ATTO 430LS | B16: 3`AquaPhluor 639 | C16: 5`AMCA，3`MGB | D16: deoxyUridine (dU) | E16: /ideoxyU/ | F16: U
A17: 5`ATTO 490LS | B17: 3`Atto 425 | C17: 5`ATTO 425，3`BHQ1 | D17: dSpacer | E17: /idSp/
A18: 5`ATTO 550 | B18: 3`ATTO 550 | C18: 5`ATTO 425，3`Dabcyl | D18: Gemcitabine(2`dual-F-dC) | E18: /iGEM/ | F18: C
A19: 5`ATTO 565 | B19: 3`ATTO 565 | C19: 5`ATTO 425，3`Eclipse | D19: Int 6-FAM-dT | E19: /i6FAMdT/ | F19: T
A20: 5`ATTO 590 | B20: 3`ATTO 590 | C20: 5`ATTO 425，3`MGB | D20: Int Acrydite dT | E20: /iAcryditedT/ | F20: T
A21: 5`ATTO 633 | B21: 3`ATTO 647N | C21: 5`ATTO 550，3`BHQ2 | D21: Int Alexa Fluor 350 dT | E21: /iAF350dT/ | F21: T
A22: 5`ATTO 647N | B22: 3`ATTO Rho101 | C22: 5`ATTO 550，3`Dabcyl | D22: Int Alexa Fluor 405 dT | E22: /iAF405dT/ | F22: T
A23: 5`ATTO Rho101 | B23: 3`Azide(N3) | C23: 5`ATTO 550，3`Eclipse | D23: Int Alexa Fluor 430 dT | E23: /iAF430dT/ | F23: T
A24: 5`Azide(N3) | B24: 3`BBQ650 | C24: 5`ATTO 550，3`MGB | D24: Int Alexa Fluor 488-dT | E24: /iAF488dT/ | F24: T
A25: 5`BBQ650 | B25: 3`BHQ1 | C25: 5`ATTO 565，3`BHQ2 | D25: Int Alexa Fluor 532 dT | E25: /iAF532dT/ | F25: T
A26: 5`BHQ1 | B26: 3`BHQ2 | C26: 5`ATTO 565，3`Dabcyl | D26: Int Alexa Fluor 555 dT | E26: /iAF555dT/ | F26: T
A27: 5`BHQ2 | B27: 3`BHQ3 | C27: 5`ATTO 565，3`Eclipse | D27: Int Alexa Fluor 568 dT | E27: /iAF568dT/ | F27: T
A28: 5`BHQ3(NE) | B28: 3`Biotin | C28: 5`ATTO 565，3`MGB | D28: Int Alexa Fluor 594 dT | E28: /iAF594dT/ | F28: T
A29: 5`Biotin | B29: 3`Biotin-TEG | C29: 5`ATTO 590，3`BHQ2 | D29: Int Alexa Fluor 647 dT | E29: /iAF647dT/ | F29: T
A30: 5`Biotin-TEG | B30: 3`BODIPY FL | C30: 5`ATTO 590，3`Dabcyl | D30: Int Alexa Fluor 680 dT | E30: /iAF680dT/ | F30: T
A31: 5`BODIPY FL | B31: 3`BODIPY R6G | C31: 5`ATTO 590，3`Eclipse | D31: Int Amino-PEG4-C7 | E31: /iPEG-NH2/
A32: 5`BODIPY R6G | B32: 3`C3 Spacer | C32: 5`ATTO 590，3`MGB | D32: Int Atto 425 dT | E32: /iAtto425dT/ | F32: T
A33: 5`C18 | B33: 3`C6 Spacer | C33: 5`CY3，3`BHQ2 | D33: Int ATTO 550 dT | E33: /iATTO550dT/ | F33: T
A34: 5`C3 Spacer | B34: 3`CHCH | C34: 5`CY3，3`Dabcyl-N | D34: Int ATTO 565 dT | E34: /iATTO565dT/ | F34: T
A35: 5`CHCH(Hexyne) | B35: 3`Cholesteryl | C35: 5`CY3，3`MGB | D35: Int ATTO 590 dT | E35: /iATTO590dT/ | F35: T
A36: 5`CHO | B36: 3`Cholesteryl-TEG | C36: 5`CY3，3`TAMRA-N | D36: Int ATTO 647N dT | E36: /iATTO647NdT/ | F36: T
A37: 5`Cholesteryl | B37: 3`Cy3 | C37: 5`CY5，3`BHQ2 | D37: Int ATTO Rho101 dT | E37: /iATTORho101dT/ | F37: T
A38: 5`Cholesteryl-TEG | B38: 3`Cy5 | C38: 5`CY5，3`BHQ3 | D38: Int Azide-dT | E38: /iAzidedT/ | F38: T
A39: 5`COOH | B39: 3`Cy5(Hydrophilic) | C39: 5`CY5，3`Dabcyl | D39: Int BBQ650 | E39: /iBBQ650/
A40: 5`Cy3 | B40: 3`CY5.5 | C40: 5`CY5，3`Eclipse | D40: Int BBQ650 dT | E40: /iBBQ650dT/ | F40: T
...

Sheet 修饰碱基
A1: 引物修饰列表
A2: 5'修饰 | B2: 3’修饰 | C2: 5'和3’端双标修饰 | D2: 中间修饰 | E2: 中间修饰代码 | F2: 中间修饰碱基 | G2: 简并碱基代码
A3: 5`6-FAM | B3: 3`6-FAM | C3: 5`6-FAM，3`BHQ1 | D3: 1-Me-dA | E3: /i1-MedA/ | F3: A | G3: B=C/G/T
A4: 5`Acrydite | B4: 3`Acrydite | C4: 5`6-FAM，3`BHQ2 | D4: 2-Aminopurine | E4: /i2-Amp/ | F4: A | G4: D=A/G/T
A5: 5`Adenylation | B5: 3`Alexa Fluor 405 | C5: 5`6-FAM，3`Dabcyl | D5: 5-Bromo dU | E5: /i5Br-dU/ | F5: U | G5: H=A/C/T
A6: 5`Alexa Fluor 405 | B6: 3`Alexa Fluor 430 | C6: 5`6-FAM，3`DBQ1 | D6: 5F-dU | E6: /i5F-dU/ | F6: U | G6: I=Universal Base
A7: 5`Alexa Fluor 430 | B7: 3`Alexa Fluor 488 | C7: 5`6-FAM，3`Eclipse | D7: 5-Methyl dC | E7: /i5MedC/ | F7: C | G7: K=G/T
A8: 5`Alexa Fluor 488 | B8: 3`Alexa Fluor 532 | C8: 5`6-FAM，3`MGB | D8: 5-Nitroindole | E8: /i5NitInd/ | G8: M=A/C
A9: 5`Alexa Fluor 532 | B9: 3`Alexa Fluor 568 | C9: 5`6-FAM，3`MGB SQ | D9: 8-OXO-dG | E9: /i8oxodG/ | F9: G | G9: N=A/C/G/T
A10: 5`Alexa Fluor 568 | B10: 3`Alexa Fluor 594 | C10: 5`6-FAM，3`TAMRA-N | D10: Azobenzene | E10: /iAbz/ | G10: R=A/G
A11: 5`Alexa Fluor 594 | B11: 3`Alexa Fluor 647 | C11: 5`Alexa Fluor 488，3`BHQ1 | D11: C12 Spacer | E11: /iSpC12/ | G11: S=C/G
A12: 5`Alexa Fluor 647 | B12: 3`Alexa Fluor 680 | C12: 5`Alexa Fluor 488，3`BHQ2 | D12: C3 Spacer | E12: /iSpC3/ | G12: V=A/C/G
A13: 5`Alexa Fluor 680 | B13: 3`AMCA | C13: 5`Alexa Fluor 488，3`Dabcyl | D13: C6 Spacer | E13: /iSp6/ | G13: W=A/T
A14: 5`AMCA | B14: 3`AquaPhluor 593 | C14: 5`Alexa Fluor 488，3`MGB | D14: deoxyInosine (dI) | E14: /ideoxyI/ | F14: I | G14: Y=C/T
A15: 5`Atto 425 | B15: 3`AquaPhluor 639 | C15: 5`AMCA，3`BHQ1 | D15: deoxyUridine (dU) | E15: /ideoxyU/ | F15: U
A16: 5`ATTO 430LS | B16: 3`Atto 425 | C16: 5`AMCA，3`Dabcyl | D16: dSpacer | E16: /idSp/
A17: 5`ATTO 490LS | B17: 3`ATTO 550 | C17: 5`AMCA，3`Eclipse | D17: Gemcitabine(2`dual-F-dC) | E17: /iGEM/ | F17: C
A18: 5`ATTO 550 | B18: 3`ATTO 565 | C18: 5`AMCA，3`MGB | D18: Int 6-FAM-dT | E18: /i6FAMdT/ | F18: T
A19: 5`ATTO 565 | B19: 3`ATTO 590 | C19: 5`ATTO 425，3`BHQ1 | D19: Int Acrydite dT | E19: /iAcryditedT/ | F19: T
A20: 5`ATTO 590 | B20: 3`ATTO 647N | C20: 5`ATTO 425，3`Dabcyl | D20: Int Alexa Fluor 350 dT | E20: /iAF350dT/ | F20: T
A21: 5`ATTO 633 | B21: 3`ATTO Rho101 | C21: 5`ATTO 425，3`Eclipse | D21: Int Alexa Fluor 405 dT | E21: /iAF405dT/ | F21: T
A22: 5`ATTO 647N | B22: 3`Azide(N3) | C22: 5`ATTO 425，3`MGB | D22: Int Alexa Fluor 430 dT | E22: /iAF430dT/ | F22: T
A23: 5`ATTO Rho101 | B23: 3`BBQ650 | C23: 5`ATTO 550，3`BHQ2 | D23: Int Alexa Fluor 488-dT | E23: /iAF488dT/ | F23: T
A24: 5`Azide(N3) | B24: 3`BHQ1 | C24: 5`ATTO 550，3`Dabcyl | D24: Int Alexa Fluor 532 dT | E24: /iAF532dT/ | F24: T
A25: 5`AquaPhluor 593 | B25: 3`BHQ2 | C25: 5`ATTO 550，3`Eclipse | D25: Int Alexa Fluor 555 dT | E25: /iAF555dT/ | F25: T
A26: 5`AquaPhluor 639 | B26: 3`BHQ3 | C26: 5`ATTO 550，3`MGB | D26: Int Alexa Fluor 568 dT | E26: /iAF568dT/ | F26: T
A27: 5`BBQ650 | B27: 3`BHQ3(NE) | C27: 5`ATTO 565，3`BHQ2 | D27: Int Alexa Fluor 594 dT | E27: /iAF594dT/ | F27: T
A28: 5`BHQ1 | B28: 3`Biotin | C28: 5`ATTO 565，3`Dabcyl | D28: Int Alexa Fluor 647 dT | E28: /iAF647dT/ | F28: T
A29: 5`BHQ2 | B29: 3`Biotin-TEG | C29: 5`ATTO 565，3`Eclipse | D29: Int Alexa Fluor 680 dT | E29: /iAF680dT/ | F29: T
A30: 5`BHQ3(NE) | B30: 3`BODIPY FL | C30: 5`ATTO 565，3`MGB | D30: Int Amino-PEG4-C7 | E30: /iPEG-NH2/
A31: 5`Biotin | B31: 3`BODIPY R6G | C31: 5`ATTO 590，3`BHQ2 | D31: Int Atto 425 dT | E31: /iAtto425dT/ | F31: T
A32: 5`Biotin-TEG | B32: 3`C3 Spacer | C32: 5`ATTO 590，3`Dabcyl | D32: Int ATTO 550 dT | E32: /iATTO550dT/ | F32: T
A33: 5`BODIPY FL | B33: 3`C6 Spacer | C33: 5`ATTO 590，3`Eclipse | D33: Int ATTO 565 dT | E33: /iATTO565dT/ | F33: T
A34: 5`BODIPY R6G | B34: 3`CDPI3 MGB | C34: 5`ATTO 590，3`MGB | D34: Int ATTO 590 dT | E34: /iATTO590dT/ | F34: T
A35: 5`C18 | B35: 3`CHCH | C35: 5`CY3，3`BHQ2 | D35: Int ATTO 647N dT | E35: /iATTO647NdT/ | F35: T
A36: 5`C3 Spacer | B36: 3`Cholesteryl | C36: 5`CY3，3`Dabcyl-N | D36: Int ATTO Rho101 dT | E36: /iATTORho101dT/ | F36: T
A37: 5`CHCH(Hexyne) | B37: 3`Cholesteryl-TEG | C37: 5`CY3，3`MGB | D37: Int Azide-dT | E37: /iAzidedT/ | F37: T
A38: 5`CHO | B38: 3`Cy3 | C38: 5`CY3，3`TAMRA-N | D38: Int BBQ650 | E38: /iBBQ650/
A39: 5`Cholesteryl | B39: 3`Cy5 | C39: 5`CY5，3`BHQ2 | D39: Int BBQ650 dT | E39: /iBBQ650dT/ | F39: T
A40: 5`Cholesteryl-TEG | B40: 3`Cy5(Hydrophilic) | C40: 5`CY5，3`BHQ3 | D40: Int BHQ1 dT | E40: /iBHQ1dT/ | F40: T
...

Sheet 纯化推荐
A1: 纯度级别选择指南
A2: 纯度级别 | B2: 引物长度(mer) | G2: 应用
B3: 5~10 | C3: 11~40 | D3: 41~60 | E3: 61~90 | F3: 91~140
A4: OPC | B4: 适用 | C4: 推荐 | D4: 推荐 | E4: 不适用 | F4: 不适用 | G4: PCR扩增、全基因合成、DNA测序等，可满足大多分子生物学实验。
A6: PAGE | B6: 不适用 | C6: 适用 | D6: 适用 | E6: 推荐 | F6: 推荐 | G6: 二代测序、诊断PCR、蛋白结合凝胶迁移电泳分析等，对纯度要求较高的领域，长链引物的最佳选择。
A8: TPAGE | B8: 不适用 | C8: 适用 | D8: 适用 | E8: 推荐 | F8: 推荐 | G8: 相较于传统PAGE纯化，TPAGE纯度更高，速度更快。
A10: HPLC | B10: 推荐 | C10: 推荐 | D10: 推荐 | E10: 适用 | F10: 不推荐 | G10: 点突变、亚克隆、诊断PCR及蛋白结合凝胶迁移电泳分析； 商业化的诊断引物和探针，主要用于短链和修饰引物的纯化。

Sheet 填写示例
A1: OD量下单填写示例：
A2: ID（此处无需填写） | B2: Primer名称 | C2: 序列（5' to 3'） | D2: 碱基数 | E2: 分装管数 | F2: 提供总量（OD） | G2: 纯化方法 | H2: nmoles | I2: 5'端修饰 | J2: 3'端修饰 | K2: 5'端和3’端双标记修饰
A3: 01 | B3: P1 | C3: TGCTACCACGATCCATGGCT | D3: {=LEN(C3)-SUM((LEN(C3)-LEN(SUBSTITUTE(C3,修饰名称!E:E,修饰名称!F:F))))} -> 20 | E3: 1 | F3: 2 | G3: HAP
A4: 02 | B4: P2 | C4: TCGTGCTCTGAGACAAGTTG | D4: {=LEN(C4)-SUM((LEN(C4)-LEN(SUBSTITUTE(C4,修饰名称!E:E,修饰名称!F:F))))} -> 20 | E4: 1 | F4: 5 | G4: ULTRAPAGE
A5: 03 | B5: P3 | C5: TCCGTGAGCTATGATCTCTCT | D5: {=LEN(C5)-SUM((LEN(C5)-LEN(SUBSTITUTE(C5,修饰名称!E:E,修饰名称!F:F))))} -> 21 | E5: 1 | F5: 5 | G5: HPLC
A6: 04 | B6: P4 | C6: CGCCTTGAATGCCCATTCGA | D6: {=LEN(C6)-SUM((LEN(C6)-LEN(SUBSTITUTE(C6,修饰名称!E:E,修饰名称!F:F))))} -> 20 | E6: 1 | F6: 2 | G6: IE-HPLC
A7: 05 | B7: P5 | C7: GCAACCAGCCATGAATGAG | D7: {=LEN(C7)-SUM((LEN(C7)-LEN(SUBSTITUTE(C7,修饰名称!E:E,修饰名称!F:F))))} -> 19 | E7: 1 | F7: 5 | G7: 2X HPLC
A9: nmoles下单填写示例：
A10: ID（此处无需填写） | B10: Primer名称 | C10: 序列（5' to 3'） | D10: 碱基数 | E10: 分装管数 | F10: 提供总量（OD） | G10: 纯化方法 | H10: nmoles | I10: 5'端修饰 | J10: 3'端修饰 | K10: 5'端和3’端双标记修饰
A11: 01 | B11: P1 | C11: CGAGGAAGCGATGTGAGAGA | D11: {=LEN(C11)-SUM((LEN(C11)-LEN(SUBSTITUTE(C11,修饰名称!E:E,修饰名称!F:F))))} -> 20 | E11: 1 | G11: HAP | H11: 5
A12: 02 | B12: P2 | C12: TGCCCTTGAAAGAGACAGGC | D12: {=LEN(C12)-SUM((LEN(C12)-LEN(SUBSTITUTE(C12,修饰名称!E:E,修饰名称!F:F))))} -> 20 | E12: 1 | G12: ULTRAPAGE | H12: 10
A13: 03 | B13: P3 | C13: TCACTACTACCAGCTGCGCAC | D13: {=LEN(C13)-SUM((LEN(C13)-LEN(SUBSTITUTE(C13,修饰名称!E:E,修饰名称!F:F))))} -> 21 | E13: 1 | G13: HPLC | H13: 20
A14: 04 | B14: P4 | C14: GGCAATCTCGCATACATTCTC | D14: {=LEN(C14)-SUM((LEN(C14)-LEN(SUBSTITUTE(C14,修饰名称!E:E,修饰名称!F:F))))} -> 21 | E14: 1 | G14: IE-HPLC | H14: 20
A15: 05 | B15: P5 | C15: GCTCGACAGCAGTGAAGGTC | D15: {=LEN(C15)-SUM((LEN(C15)-LEN(SUBSTITUTE(C15,修饰名称!E:E,修饰名称!F:F))))} -> 20 | E15: 1 | G15: 2X HPLC | H15: 20
A17: 5'端修饰填写示例：
A18: ID（此处无需填写） | B18: Primer名称 | C18: 序列（5' to 3'） | D18: 碱基数 | E18: 分装管数 | F18: 提供总量（OD） | G18: 纯化方法 | H18: nmoles | I18: 5'端修饰 | J18: 3'端修饰 | K18: 5'端和3’端双标记修饰
A19: 01 | B19: P1 | C19: GCAACTCCCAGCAACCAAAG | D19: {=LEN(C19)-SUM((LEN(C19)-LEN(SUBSTITUTE(C19,修饰名称!E:E,修饰名称!F:F))))} -> 20 | E19: 1 | F19: 2 | G19: HPLC | I19: 5`6-FAM
A20: 02 | B20: P2 | C20: TCTCCACCTGGTCTCTCGAG | D20: {=LEN(C20)-SUM((LEN(C20)-LEN(SUBSTITUTE(C20,修饰名称!E:E,修饰名称!F:F))))} -> 20 | E20: 1 | F20: 5 | G20: HPLC | I20: 5`Biotin
A21: 03 | B21: P3 | C21: TGGAGCTTAATGTGATAGCA | D21: {=LEN(C21)-SUM((LEN(C21)-LEN(SUBSTITUTE(C21,修饰名称!E:E,修饰名称!F:F))))} -> 20 | E21: 1 | F21: 10 | G21: HPLC | I21: 5`NH2 C6
A23: 3'端修饰填写示例：
A24: ID（此处无需填写） | B24: Primer名称 | C24: 序列（5' to 3'） | D24: 碱基数 | E24: 分装管数 | F24: 提供总量（OD） | G24: 纯化方法 | H24: nmoles | I24: 5'端修饰 | J24: 3'端修饰 | K24: 5'端和3’端双标记修饰
A25: 01 | B25: P1 | C25: TGCTCGCGTGTATCATCCAG | D25: {=LEN(C25)-SUM((LEN(C25)-LEN(SUBSTITUTE(C25,修饰名称!E:E,修饰名称!F:F))))} -> 20 | E25: 1 | F25: 2 | G25: HPLC | J25: 3`P
A26: 02 | B26: P2 | C26: AGGACCTCTCGTTCCAGAAC | D26: {=LEN(C26)-SUM((LEN(C26)-LEN(SUBSTITUTE(C26,修饰名称!E:E,修饰名称!F:F))))} -> 20 | E26: 1 | F26: 5 | G26: HPLC | J26: 3`Dig
A27: 03 | B27: P3 | C27: TCGGAGATAGTGGGTTTGAG | D27: {=LEN(C27)-SUM((LEN(C27)-LEN(SUBSTITUTE(C27,修饰名称!E:E,修饰名称!F:F))))} -> 20 | E27: 1 | F27: 10 | G27: HPLC | J27: 3`SH C6
A29: 5'端和3’端双标记修饰填写示例：
A30: ID（此处无需填写） | B30: Primer名称 | C30: 序列（5' to 3'） | D30: 碱基数 | E30: 分装管数 | F30: 提供总量（OD） | G30: 纯化方法 | H30: nmoles | I30: 5'端修饰 | J30: 3'端修饰 | K30: 5'端和3’端双标记修饰
A31: 01 | B31: P1 | C31: TGCTCGCGTGTATCATCCAGC | D31: {=LEN(C31)-SUM((LEN(C31)-LEN(SUBSTITUTE(C31,修饰名称!E:E,修饰名称!F:F))))} -> 21 | E31: 1 | F31: 2 | G31: HPLC | K31: 5`6-FAM，3`BHQ1
A32: 02 | B32: P2 | C32: AGGACCTCCGTCTCCAGAAA | D32: {=LEN(C32)-SUM((LEN(C32)-LEN(SUBSTITUTE(C32,修饰名称!E:E,修饰名称!F:F))))} -> 20 | E32: 1 | F32: 5 | G32: HPLC | K32: 5`HEX，3`BHQ1
A33: 03 | B33: P3 | C33: TCGGAGAAGTGGGTTCTGAG | D33: {=LEN(C33)-SUM((LEN(C33)-LEN(SUBSTITUTE(C33,修饰名称!E:E,修饰名称!F:F))))} -> 20 | E33: 1 | F33: 10 | G33: HPLC | K33: 5`CY5，3`BHQ2
A35: 中间修饰填写示例：
A36: ID（此处无需填写） | B36: Primer名称 | C36: 序列（5' to 3'） | D36: 碱基数 | E36: 分装管数 | F36: 提供总量（OD） | G36: 纯化方法 | H36: nmoles | I36: 5'端修饰 | J36: 3'端修饰 | K36: 5'端和3’端双标记修饰
A37: 01 | B37: P1 | C37: TAGCGAGC/iSp18/TAGCCTAGTGAT | D37: {=LEN(C37)-SUM((LEN(C37)-LEN(SUBSTITUTE(C37,修饰名称!E:E,修饰名称!F:F))))} -> 20 | E37: 1 | F37: 2 | G37: HPLC
A38: 02 | B38: P2 | C38: AATCGCA/i6FAMdT/GCACGCA/iBHQ1dT/GCA | D38: {=LEN(C38)-SUM((LEN(C38)-LEN(SUBSTITUTE(C38,修饰名称!E:E,修饰名称!F:F))))} -> 19 | E38: 1 | F38: 5 | G38: HPLC
A39: 03 | B39: P3 | C39: /i2OMeA/*A*GTCAGT/i5MedC/AGT/i5MedC/AGTCA*G*/i2OMeC/ | D39: {=LEN(C39)-SUM((LEN(C39)-LEN(SUBSTITUTE(C39,修饰名称!E:E,修饰名称!F:F))))} -> 20 | E39: 1 | F39: 10 | G39: HPLC
A41: *以上为示例，仅供参考。
